BEGIN:VCALENDAR
VERSION:2.0
PRODID:-//DC Triathlon Club - ECPv6.15.18//NONSGML v1.0//EN
CALSCALE:GREGORIAN
METHOD:PUBLISH
X-WR-CALNAME:DC Triathlon Club
X-ORIGINAL-URL:https://www.dctriclub.org
X-WR-CALDESC:Events for DC Triathlon Club
REFRESH-INTERVAL;VALUE=DURATION:PT1H
X-Robots-Tag:noindex
X-PUBLISHED-TTL:PT1H
BEGIN:VTIMEZONE
TZID:America/New_York
BEGIN:DAYLIGHT
TZOFFSETFROM:-0500
TZOFFSETTO:-0400
TZNAME:EDT
DTSTART:20250309T070000
END:DAYLIGHT
BEGIN:STANDARD
TZOFFSETFROM:-0400
TZOFFSETTO:-0500
TZNAME:EST
DTSTART:20251102T060000
END:STANDARD
BEGIN:DAYLIGHT
TZOFFSETFROM:-0500
TZOFFSETTO:-0400
TZNAME:EDT
DTSTART:20260308T070000
END:DAYLIGHT
BEGIN:STANDARD
TZOFFSETFROM:-0400
TZOFFSETTO:-0500
TZNAME:EST
DTSTART:20261101T060000
END:STANDARD
BEGIN:DAYLIGHT
TZOFFSETFROM:-0500
TZOFFSETTO:-0400
TZNAME:EDT
DTSTART:20270314T070000
END:DAYLIGHT
BEGIN:STANDARD
TZOFFSETFROM:-0400
TZOFFSETTO:-0500
TZNAME:EST
DTSTART:20271107T060000
END:STANDARD
END:VTIMEZONE
BEGIN:VEVENT
DTSTART;TZID=America/New_York:20260421T183000
DTEND;TZID=America/New_York:20260421T193000
DTSTAMP:20260421T062202
CREATED:20260409T132207Z
LAST-MODIFIED:20260409T132207Z
UID:10006131-1776796200-1776799800@www.dctriclub.org
SUMMARY:Tuesday Track at Banneker
DESCRIPTION:*Thursday Track on the Mall is now Tuesday Track at Banneker!* \nLed by amazing DC Tri member\, Jimmie Kirtley! \nEvery Tuesday starting April 14 until the end of October\, Jimmie is leading a group meetup at Banneker Track (2500 Georgia Ave NW\, Washington DC 20001). We will meet at 6:30pm\, do introductions and then do our workout. \nWorkouts will take around an hour. Feel free to do the workout of the week or bring your own! \nFor weekly updates\, photos and questions\, go to the event group here: https://www.dctriclub.org/groups/tuesday-track-at-banneker/ \n  \nSee you at the track!
URL:https://www.dctriclub.org/event/tuesday-track-at-banneker/2026-04-21/
CATEGORIES:Run
END:VEVENT
BEGIN:VEVENT
DTSTART;TZID=America/New_York:20260421T190000
DTEND;TZID=America/New_York:20260421T200000
DTSTAMP:20260421T062202
CREATED:20250327T190603Z
LAST-MODIFIED:20250327T192135Z
UID:10003899-1776798000-1776801600@www.dctriclub.org
SUMMARY:Weekly Virtual Rides
DESCRIPTION:Join us on Zwift for weekly Virtual Rides \nTo join\, follow Kelly Lefler on Zwift. Tag your profile with “DCTri” for ride invites. Once you’ve tagged your Zwift profile\, \nNot on Zwift? No worries – there is an option to join via Discord. \nQuestions? Ask in the group (link on this page under ‘Event Group’) or linked here: https://www.dctriclub.org/groups/weekly-virtual-rides/
URL:https://www.dctriclub.org/event/weekly-virtual-rides/2026-04-21/
CATEGORIES:Bike
ATTACH;FMTTYPE=image/jpeg:https://www.dctriclub.org/wp-content/uploads/2025/03/sophia-Volunteer-_-DC-Tri-Club.jpg
END:VEVENT
END:VCALENDAR