BEGIN:VCALENDAR
VERSION:2.0
PRODID:-//DC Triathlon Club - ECPv6.15.18//NONSGML v1.0//EN
CALSCALE:GREGORIAN
METHOD:PUBLISH
X-ORIGINAL-URL:https://www.dctriclub.org
X-WR-CALDESC:Events for DC Triathlon Club
REFRESH-INTERVAL;VALUE=DURATION:PT1H
X-Robots-Tag:noindex
X-PUBLISHED-TTL:PT1H
BEGIN:VTIMEZONE
TZID:America/New_York
BEGIN:DAYLIGHT
TZOFFSETFROM:-0500
TZOFFSETTO:-0400
TZNAME:EDT
DTSTART:20250309T070000
END:DAYLIGHT
BEGIN:STANDARD
TZOFFSETFROM:-0400
TZOFFSETTO:-0500
TZNAME:EST
DTSTART:20251102T060000
END:STANDARD
BEGIN:DAYLIGHT
TZOFFSETFROM:-0500
TZOFFSETTO:-0400
TZNAME:EDT
DTSTART:20260308T070000
END:DAYLIGHT
BEGIN:STANDARD
TZOFFSETFROM:-0400
TZOFFSETTO:-0500
TZNAME:EST
DTSTART:20261101T060000
END:STANDARD
BEGIN:DAYLIGHT
TZOFFSETFROM:-0500
TZOFFSETTO:-0400
TZNAME:EDT
DTSTART:20270314T070000
END:DAYLIGHT
BEGIN:STANDARD
TZOFFSETFROM:-0400
TZOFFSETTO:-0500
TZNAME:EST
DTSTART:20271107T060000
END:STANDARD
END:VTIMEZONE
BEGIN:VEVENT
DTSTART;TZID=America/New_York:20260321T074500
DTEND;TZID=America/New_York:20260321T120000
DTSTAMP:20260420T062045
CREATED:20251231T024533Z
LAST-MODIFIED:20260316T011920Z
UID:10005547-1774079100-1774094400@www.dctriclub.org
SUMMARY:Rock 'n' Roll Half and 5k
DESCRIPTION:It’s Rock ‘n Roll DC time! \nIf you aren’t running\, we’d love to have more volunteers at our aid station in Rock Creek Park just north of P St. The shift is from 7 – 11:30 AM. It’s a great way to give back and your fellow runners will appreciate it! For more information about volunteering at the Rock Creek hydration station and how to sign up: Click here \nStart times: 5 k – 7.45 am\, Half – 8 am \nLocation: Check official Rock ‘n’ Roll event page for starting points (different for each race) \nRacing Rock ‘n’ Roll Half/5k? Let us know that you’re coming. Use the group associated to this event to connect with your other DC Tri Club racers! If you take a group picture\, please send to communications@dctriclub.org. \nPost-event meetup: Elephant & Castle\, 1201 Pennsylvania Avenue NW\, starting 11am \n 
URL:https://www.dctriclub.org/event/rock-n-roll-half-and-5k/
CATEGORIES:Club Races,Run
ATTACH;FMTTYPE=image/jpeg:https://www.dctriclub.org/wp-content/uploads/2025/03/Rock-n-roll-half.jpg
END:VEVENT
END:VCALENDAR