BEGIN:VCALENDAR
VERSION:2.0
PRODID:-//DC Triathlon Club - ECPv6.15.18//NONSGML v1.0//EN
CALSCALE:GREGORIAN
METHOD:PUBLISH
X-ORIGINAL-URL:https://www.dctriclub.org
X-WR-CALDESC:Events for DC Triathlon Club
REFRESH-INTERVAL;VALUE=DURATION:PT1H
X-Robots-Tag:noindex
X-PUBLISHED-TTL:PT1H
BEGIN:VTIMEZONE
TZID:America/New_York
BEGIN:DAYLIGHT
TZOFFSETFROM:-0500
TZOFFSETTO:-0400
TZNAME:EDT
DTSTART:20240310T070000
END:DAYLIGHT
BEGIN:STANDARD
TZOFFSETFROM:-0400
TZOFFSETTO:-0500
TZNAME:EST
DTSTART:20241103T060000
END:STANDARD
BEGIN:DAYLIGHT
TZOFFSETFROM:-0500
TZOFFSETTO:-0400
TZNAME:EDT
DTSTART:20250309T070000
END:DAYLIGHT
BEGIN:STANDARD
TZOFFSETFROM:-0400
TZOFFSETTO:-0500
TZNAME:EST
DTSTART:20251102T060000
END:STANDARD
BEGIN:DAYLIGHT
TZOFFSETFROM:-0500
TZOFFSETTO:-0400
TZNAME:EDT
DTSTART:20260308T070000
END:DAYLIGHT
BEGIN:STANDARD
TZOFFSETFROM:-0400
TZOFFSETTO:-0500
TZNAME:EST
DTSTART:20261101T060000
END:STANDARD
END:VTIMEZONE
BEGIN:VEVENT
DTSTART;TZID=America/New_York:20250427T073000
DTEND;TZID=America/New_York:20250427T110000
DTSTAMP:20260421T062011
CREATED:20250315T183155Z
LAST-MODIFIED:20250315T183348Z
UID:10003498-1745739000-1745751600@www.dctriclub.org
SUMMARY:PNC Alexandria Half & 5k
DESCRIPTION:The Parkway Classic is now the inaugural PNC Alexandria Half\, Northern Virginia’s marquee spring running event!  Enjoy 13.1 miles through the heart of Old Town and out and back on the beautiful George Washington Parkway.  Or\, choose the 5K and exclusively experience the charm of Old Town. Post race party to follow. \n\n\n\nHalf Marathon & 5 K: 7:30 am\nKid’s Dash: 10:30 am\nLocation: City Hall\, Alexandria\, VA\n\n\n\n\nRacing PNC Alexandria Half or 5k? Let us know that you’re coming and connect with your other DC Tri Club racers! \nRegistration: https://www.alexandriahalf.com/
URL:https://www.dctriclub.org/event/pnc-alexandria-half-5k/
CATEGORIES:Run
ATTACH;FMTTYPE=image/jpeg:https://www.dctriclub.org/wp-content/uploads/2025/03/Hero_ALXHALF-02.jpg
END:VEVENT
BEGIN:VEVENT
DTSTART;TZID=America/New_York:20250427T080000
DTEND;TZID=America/New_York:20250427T080000
DTSTAMP:20260421T062011
CREATED:20241115T024409Z
LAST-MODIFIED:20241115T024409Z
UID:10003205-1745740800-1745740800@www.dctriclub.org
SUMMARY:Discover Columbia Run - 5/10K
DESCRIPTION:Starting and finishing at Colorburst Park in the Merriweather District\, the Rip It Events Discover Columbia Run showcases Downtown Columbia and Columbia Association’s Lake Kittamaqundi. Join over 1\,000 runners. This race is appropriate for all level runners. \n\nLocation: 6000 Merriweather Drive\, Columbia\, MD 21044\nAge requirements: Runners must be at least 10 years old to participate in the 10K\, and at least 7 years old to participate in the 5K.\n\nRacing Discover Columbia Run? Let us know that you’re coming and connect with your other DC Tri Club racers! \nRegistration: https://www.ripitevents.com/discoverdowntowncolumbia5k10k
URL:https://www.dctriclub.org/event/discover-columbia-run-5-10k/
CATEGORIES:Club Races,Run
END:VEVENT
END:VCALENDAR