BEGIN:VCALENDAR
VERSION:2.0
PRODID:-//DC Triathlon Club - ECPv6.15.18//NONSGML v1.0//EN
CALSCALE:GREGORIAN
METHOD:PUBLISH
X-WR-CALNAME:DC Triathlon Club
X-ORIGINAL-URL:https://www.dctriclub.org
X-WR-CALDESC:Events for DC Triathlon Club
REFRESH-INTERVAL;VALUE=DURATION:PT1H
X-Robots-Tag:noindex
X-PUBLISHED-TTL:PT1H
BEGIN:VTIMEZONE
TZID:America/New_York
BEGIN:DAYLIGHT
TZOFFSETFROM:-0500
TZOFFSETTO:-0400
TZNAME:EDT
DTSTART:20250309T070000
END:DAYLIGHT
BEGIN:STANDARD
TZOFFSETFROM:-0400
TZOFFSETTO:-0500
TZNAME:EST
DTSTART:20251102T060000
END:STANDARD
BEGIN:DAYLIGHT
TZOFFSETFROM:-0500
TZOFFSETTO:-0400
TZNAME:EDT
DTSTART:20260308T070000
END:DAYLIGHT
BEGIN:STANDARD
TZOFFSETFROM:-0400
TZOFFSETTO:-0500
TZNAME:EST
DTSTART:20261101T060000
END:STANDARD
BEGIN:DAYLIGHT
TZOFFSETFROM:-0500
TZOFFSETTO:-0400
TZNAME:EDT
DTSTART:20270314T070000
END:DAYLIGHT
BEGIN:STANDARD
TZOFFSETFROM:-0400
TZOFFSETTO:-0500
TZNAME:EST
DTSTART:20271107T060000
END:STANDARD
END:VTIMEZONE
BEGIN:VEVENT
DTSTART;TZID=America/New_York:20260421T183000
DTEND;TZID=America/New_York:20260421T193000
DTSTAMP:20260421T075241
CREATED:20260409T132207Z
LAST-MODIFIED:20260409T132207Z
UID:10006131-1776796200-1776799800@www.dctriclub.org
SUMMARY:Tuesday Track at Banneker
DESCRIPTION:*Thursday Track on the Mall is now Tuesday Track at Banneker!* \nLed by amazing DC Tri member\, Jimmie Kirtley! \nEvery Tuesday starting April 14 until the end of October\, Jimmie is leading a group meetup at Banneker Track (2500 Georgia Ave NW\, Washington DC 20001). We will meet at 6:30pm\, do introductions and then do our workout. \nWorkouts will take around an hour. Feel free to do the workout of the week or bring your own! \nFor weekly updates\, photos and questions\, go to the event group here: https://www.dctriclub.org/groups/tuesday-track-at-banneker/ \n  \nSee you at the track!
URL:https://www.dctriclub.org/event/tuesday-track-at-banneker/2026-04-21/
CATEGORIES:Run
END:VEVENT
BEGIN:VEVENT
DTSTART;TZID=America/New_York:20260426T070000
DTEND;TZID=America/New_York:20260426T120000
DTSTAMP:20260421T075241
CREATED:20260204T182803Z
LAST-MODIFIED:20260204T182803Z
UID:10005672-1777186800-1777204800@www.dctriclub.org
SUMMARY:Alexandria Half Marathon
DESCRIPTION:About the Race\nThe PNC Alexandria Half is Northern Virginia’s marquee spring running event!  Enjoy 13.1 miles through the heart of Old Town and out and back on the beautiful George Washington Parkway.  Or\, choose the 5K and exclusively experience the charm of Old Town. Post race party to follow. \nRacing this event? Let us know that you’re coming by clicking on “attend” below the “Members Attending” button and connect with your other DC Tri Club racers! Bonus: race shout-outs in our weekly newsletter. \n 
URL:https://www.dctriclub.org/event/alexandria-half-marathon/
CATEGORIES:Race,Run
END:VEVENT
BEGIN:VEVENT
DTSTART;TZID=America/New_York:20260428T183000
DTEND;TZID=America/New_York:20260428T193000
DTSTAMP:20260421T075241
CREATED:20260409T132207Z
LAST-MODIFIED:20260409T132207Z
UID:10006132-1777401000-1777404600@www.dctriclub.org
SUMMARY:Tuesday Track at Banneker
DESCRIPTION:*Thursday Track on the Mall is now Tuesday Track at Banneker!* \nLed by amazing DC Tri member\, Jimmie Kirtley! \nEvery Tuesday starting April 14 until the end of October\, Jimmie is leading a group meetup at Banneker Track (2500 Georgia Ave NW\, Washington DC 20001). We will meet at 6:30pm\, do introductions and then do our workout. \nWorkouts will take around an hour. Feel free to do the workout of the week or bring your own! \nFor weekly updates\, photos and questions\, go to the event group here: https://www.dctriclub.org/groups/tuesday-track-at-banneker/ \n  \nSee you at the track!
URL:https://www.dctriclub.org/event/tuesday-track-at-banneker/2026-04-28/
CATEGORIES:Run
END:VEVENT
END:VCALENDAR