BEGIN:VCALENDAR
VERSION:2.0
PRODID:-//DC Triathlon Club - ECPv6.15.18//NONSGML v1.0//EN
CALSCALE:GREGORIAN
METHOD:PUBLISH
X-ORIGINAL-URL:https://www.dctriclub.org
X-WR-CALDESC:Events for DC Triathlon Club
REFRESH-INTERVAL;VALUE=DURATION:PT1H
X-Robots-Tag:noindex
X-PUBLISHED-TTL:PT1H
BEGIN:VTIMEZONE
TZID:America/New_York
BEGIN:DAYLIGHT
TZOFFSETFROM:-0500
TZOFFSETTO:-0400
TZNAME:EDT
DTSTART:20240310T070000
END:DAYLIGHT
BEGIN:STANDARD
TZOFFSETFROM:-0400
TZOFFSETTO:-0500
TZNAME:EST
DTSTART:20241103T060000
END:STANDARD
BEGIN:DAYLIGHT
TZOFFSETFROM:-0500
TZOFFSETTO:-0400
TZNAME:EDT
DTSTART:20250309T070000
END:DAYLIGHT
BEGIN:STANDARD
TZOFFSETFROM:-0400
TZOFFSETTO:-0500
TZNAME:EST
DTSTART:20251102T060000
END:STANDARD
BEGIN:DAYLIGHT
TZOFFSETFROM:-0500
TZOFFSETTO:-0400
TZNAME:EDT
DTSTART:20260308T070000
END:DAYLIGHT
BEGIN:STANDARD
TZOFFSETFROM:-0400
TZOFFSETTO:-0500
TZNAME:EST
DTSTART:20261101T060000
END:STANDARD
END:VTIMEZONE
BEGIN:VEVENT
DTSTART;TZID=America/New_York:20251014T173000
DTEND;TZID=America/New_York:20251014T203000
DTSTAMP:20260421T045158
CREATED:20250813T233136Z
LAST-MODIFIED:20250814T183806Z
UID:10005341-1760463000-1760473800@www.dctriclub.org
SUMMARY:Meet the Elite Team Social Hour
DESCRIPTION:Come join us on TUESDAY\, October 14th at UPSIDE on Moore (we will try to grab a table on the terrace if there is space and weather cooperates or we will be indoors if there is rain or it for some reason gets REALLY cold; but just look for DCTriClub banners and shirts if you are not sure where we are!).\n\nWhether you just want to meet the Elite Team members or if you are interested in applying for the 2026 Elite Team\, we encourage you to stop by and chat with us! Feel free to ask us any questions you have (though I’m not sure we know why oranges are orange or why the sky is blue (nitrogen…)\, but we will try to answer all your questions! Ask us what the requirements are. Ask us what it takes to keep up with the members. Ask us why we exist and what we do for the larger Club!\n\nEven if you are not interested in applying for the Elite Team\, please come join us and share some food and drinks with us as the triathlon race season starts to wind down and running season (and cooler weather) starts to ramp up!
URL:https://www.dctriclub.org/event/meet-the-elite-team-social-hour/
LOCATION:Upside on Moore\, 1700 N Moore St\, Arlington\, Virginia\, 22209
CATEGORIES:Club Events,Social
ATTACH;FMTTYPE=image/jpeg:https://www.dctriclub.org/wp-content/uploads/2025/05/Slider06.jpg
END:VEVENT
END:VCALENDAR