BEGIN:VCALENDAR
VERSION:2.0
PRODID:-//DC Triathlon Club - ECPv6.15.18//NONSGML v1.0//EN
CALSCALE:GREGORIAN
METHOD:PUBLISH
X-WR-CALNAME:DC Triathlon Club
X-ORIGINAL-URL:https://www.dctriclub.org
X-WR-CALDESC:Events for DC Triathlon Club
REFRESH-INTERVAL;VALUE=DURATION:PT1H
X-Robots-Tag:noindex
X-PUBLISHED-TTL:PT1H
BEGIN:VTIMEZONE
TZID:America/New_York
BEGIN:DAYLIGHT
TZOFFSETFROM:-0500
TZOFFSETTO:-0400
TZNAME:EDT
DTSTART:20240310T070000
END:DAYLIGHT
BEGIN:STANDARD
TZOFFSETFROM:-0400
TZOFFSETTO:-0500
TZNAME:EST
DTSTART:20241103T060000
END:STANDARD
BEGIN:DAYLIGHT
TZOFFSETFROM:-0500
TZOFFSETTO:-0400
TZNAME:EDT
DTSTART:20250309T070000
END:DAYLIGHT
BEGIN:STANDARD
TZOFFSETFROM:-0400
TZOFFSETTO:-0500
TZNAME:EST
DTSTART:20251102T060000
END:STANDARD
BEGIN:DAYLIGHT
TZOFFSETFROM:-0500
TZOFFSETTO:-0400
TZNAME:EDT
DTSTART:20260308T070000
END:DAYLIGHT
BEGIN:STANDARD
TZOFFSETFROM:-0400
TZOFFSETTO:-0500
TZNAME:EST
DTSTART:20261101T060000
END:STANDARD
END:VTIMEZONE
BEGIN:VEVENT
DTSTART;TZID=America/New_York:20251101T090000
DTEND;TZID=America/New_York:20251101T150000
DTSTAMP:20260424T055346
CREATED:20250805T150821Z
LAST-MODIFIED:20250819T003024Z
UID:10005339-1761987600-1762009200@www.dctriclub.org
SUMMARY:2025 Fall Foliage Ride - hosted by the DCTriClub Elite Team
DESCRIPTION:The 13th annual Fall Foliage Ride! The DC Tri Club Elite Team invite you to join us on a leisurely ride to take in the fall foliage along the roads of Montgomery County! The ride will be an easy 40ish miles with stops along the way for apple pie and apple cider\, coffee and lattes\, and a winery for wine tastings or bottles of goodness. If there is any energy or interest left at the end of the day\, we can go grab brunch after the winery. \n\n\nThis ride is open to all club members and friends/family who want to join. Please keep in mind: this is a fun\, leisure ride. There are no sprint stages\, no KOMs\, etc. We will move at a leisurely pace (though please remember that everyone’s leisurely pace is different!)\, so if you have to get back at a certain time\, you might need to move on from the group at some point. \n\n\nThere is no cost to this ride as it’s really just a group of us getting together to ride and have fun. We are stopping at an orchard\, a coffee shop\, and a winery. Everyone is responsible for purchasing their own items at these venues. \n\n\nCue sheets will be provided for all riders who want them. GPS Route will be posted closer to the ride date. \n\nThere is plenty of FREE parking at Riley’s Lock. We encourage carpooling and ride sharing to cut down on car emissions (and we encourage carpool singalongs while sharing rides together!).
URL:https://www.dctriclub.org/event/2025-dctriclub-elite-team-fall-foliage-ride/
LOCATION:Riley’s Lock\, 13015 Rileys Lock Rd\, Poolesville\, MD\, 20837\, United States
CATEGORIES:Bike,Club Events,Social
ATTACH;FMTTYPE=image/jpeg:https://www.dctriclub.org/wp-content/uploads/2024/10/fall-foliage-ride.jpg
END:VEVENT
END:VCALENDAR